BEGIN:VCALENDAR
VERSION:2.0
PRODID:-//ESITIS - ECPv6.3.7//NONSGML v1.0//EN
CALSCALE:GREGORIAN
METHOD:PUBLISH
X-WR-CALNAME:ESITIS
X-ORIGINAL-URL:https://www.esitis.org
X-WR-CALDESC:Events for ESITIS
REFRESH-INTERVAL;VALUE=DURATION:PT1H
X-Robots-Tag:noindex
X-PUBLISHED-TTL:PT1H
BEGIN:VTIMEZONE
TZID:Europe/Helsinki
BEGIN:DAYLIGHT
TZOFFSETFROM:+0200
TZOFFSETTO:+0300
TZNAME:EEST
DTSTART:20240331T010000
END:DAYLIGHT
BEGIN:STANDARD
TZOFFSETFROM:+0300
TZOFFSETTO:+0200
TZNAME:EET
DTSTART:20241027T010000
END:STANDARD
END:VTIMEZONE
BEGIN:VEVENT
DTSTART;TZID=Europe/Helsinki:20240508T090000
DTEND;TZID=Europe/Helsinki:20240511T140000
DTSTAMP:20260423T110405
CREATED:20231205T161150Z
LAST-MODIFIED:20231205T164836Z
UID:1923-1715158800-1715436000@www.esitis.org
SUMMARY:ESITIS 2024 Conference 2024
DESCRIPTION:Methodologies and Ideologies in Interreligious Engagement\n\n\n\nBuilding Bridges in a Multipolar World
URL:https://www.esitis.org/event/esitis-2024-conference-2024/
LOCATION:University of Tartu\, Estonia\, 8-11 May  2024\, Tartu\, Estonia
END:VEVENT
END:VCALENDAR